BEGIN:VCALENDAR
VERSION:2.0
PRODID:-//pretix//ConnecTeens_Ticketing//
BEGIN:VEVENT
UID:pretix-youni4youth-HACK-1-1@ticketing.youni4youth.com
DTSTART;VALUE=DATE:20231007
DTEND;VALUE=DATE:20231009
DESCRIPTION:Tickets: https://ticketing.youni4youth.com/HACK-1/1/\nOrganizer
 : Youni4Youth
DTSTAMP:20260424T183610Z
LOCATION:Strada Episcopul Radu 8\, Bucharest\, Romania
SUMMARY:Finance & Investments
END:VEVENT
END:VCALENDAR
