BEGIN:VCALENDAR
VERSION:2.0
PRODID:-//pretix//ConnecTeens_Ticketing//
BEGIN:VEVENT
UID:pretix-youni4youth-HACK-1-2@ticketing.youni4youth.com
DTSTART;VALUE=DATE:20231216
DTEND;VALUE=DATE:20231218
DESCRIPTION:Tickets: https://ticketing.youni4youth.com/HACK-1/2/\nOrganizer
 : Youni4Youth
DTSTAMP:20260422T225855Z
LOCATION:Strada Episcopul Radu 8\, Bucharest\, Romania
SUMMARY:Product Design
END:VEVENT
END:VCALENDAR
