BEGIN:VCALENDAR
VERSION:2.0
PRODID:-//pretix//ConnecTeens_Ticketing//
BEGIN:VEVENT
UID:pretix-youni4youth-HACK-1-3@ticketing.youni4youth.com
DTSTART;VALUE=DATE:20231111
DTEND;VALUE=DATE:20231113
DESCRIPTION:Tickets: https://ticketing.youni4youth.com/HACK-1/3/\nOrganizer
 : Youni4Youth
DTSTAMP:20260421T151716Z
LOCATION:Strada Episcopul Radu 8\, Bucharest\, Romania
SUMMARY:Engineering
END:VEVENT
END:VCALENDAR
