BEGIN:VCALENDAR
VERSION:2.0
PRODID:-//pretix//ConnecTeens_Ticketing//
BEGIN:VEVENT
UID:pretix-youni4youth-HACK-1-4@ticketing.youni4youth.com
DTSTART;VALUE=DATE:20240217
DTEND;VALUE=DATE:20240219
DESCRIPTION:Tickets: https://ticketing.youni4youth.com/HACK-1/4/\nOrganizer
 : Youni4Youth
DTSTAMP:20260420T071806Z
LOCATION:Bulevardul Stirbei Voda 7\, Craiova\, Romania
SUMMARY:Management
END:VEVENT
END:VCALENDAR
