BEGIN:VCALENDAR
VERSION:2.0
PRODID:-//pretix//ConnecTeens_Ticketing//
BEGIN:VEVENT
UID:pretix-youni4youth-HACK-1-5@ticketing.youni4youth.com
DTSTART;VALUE=DATE:20240127
DTEND;VALUE=DATE:20240129
DESCRIPTION:Tickets: https://ticketing.youni4youth.com/HACK-1/5/\nOrganizer
 : Youni4Youth
DTSTAMP:20260419T182400Z
LOCATION:Strada Episcopul Radu 8\, Bucharest\, Romania
SUMMARY:Law
END:VEVENT
END:VCALENDAR
