BEGIN:VCALENDAR
VERSION:2.0
PRODID:-//pretix//ConnecTeens_Ticketing//
BEGIN:VEVENT
UID:pretix-youni4youth-HACK-1-6@ticketing.youni4youth.com
DTSTART;VALUE=DATE:20231208
DTEND;VALUE=DATE:20231211
DESCRIPTION:Tickets: https://ticketing.youni4youth.com/HACK-1/6/\nOrganizer
 : Youni4Youth
DTSTAMP:20260425T143152Z
LOCATION:Universitatea Tehnica de Constructii Bucuresti\, Bulevardul Lacul 
 Tei 124\, Bucharest\, Romania
SUMMARY:Computer Science
END:VEVENT
END:VCALENDAR
